Workbook

Sheet 表紙
B2: 生管様式 P-1
B4: 様式Ｐ-１ 月次生産計画表
B6: 発行部門 | C6: 生産管理課
B7: 基準日 | C7: 2026年8月20日（8月20日締め）
B8: 作成日 | C8: 2026年8月22日
B10: 【取扱いについて】
B11: ・毎月20日に翌月度の生産計画を確定し、8月25日までに製造各課へ展開します。
B12: ・黄色のセルが記入欄です。「9月度(記入用)」シートの計画数量を埋めてください（良品数＝出来高で記入）。
B13: ・入力すると「ライン別負荷」「機種別過不足」の各シートが自動で計算されます。
B14: ・割り付けの判断は生産管理課が行います。本表に自動で最適な割り付けを出す機能はありません。
B15: ・記入前に必ず「制約条件」シートを確認してください。9月度は設備停止・治具・部品の制約が重なっています。
B16: ・確定後の変更は 様式P-2 計画変更申請（生産管理課長承認）によります。
B18: ※ 本ファイルは架空企業「ダラリ重工業株式会社」の資料（という設定）です。実在の企業・団体とは関係ありません。
B19: ※ 出典: https://darari-nu.com/company/intranet/ ／ 自社の雛形として自由に流用してください。

Sheet 9月度(記入用)
A1: 2026年9月度 月次生産計画（記入用）
A2: 2026年9月 稼働日数 20日 ／ 全体の実効稼働日数 19.5日（9月30日は実地棚卸のため半日）
A4: ライン | B4: ライン名称 | C4: 機種 | D4: 品名 | E4: シフト | F4: 日当たり能力 | G4: 実効稼働日数 | H4: 月間能力 | I4: 計画数量（記入） | J4: 所要日数 | K4: 備考
A5: L-01 | B5: リレー組立ライン1系列 | C5: DR-2412-00 | D5: 産業用リレー DR-2412形 | E5: 2直 | F5: 4509 | G5: 19.5 | H5: =F5*G5 | J5: =IF(I5="","",I5/F5)
A6: L-01 | B6: リレー組立ライン1系列 | C6: DR-2424-00 | D6: 産業用リレー DR-2424形 | E6: 2直 | F6: 4342 | G6: 19.5 | H6: =F6*G6 | J6: =IF(I6="","",I6/F6)
A7: L-02 | B7: リレー組立ライン2系列 | C7: DR-2412-00 | D7: 産業用リレー DR-2412形 | E7: 2直 | F7: 4440 | G7: 19.5 | H7: =F7*G7 | J7: =IF(I7="","",I7/F7)
A8: L-02 | B8: リレー組立ライン2系列 | C8: DR-2424-00 | D8: 産業用リレー DR-2424形 | E8: 2直 | F8: 4276 | G8: 19.5 | H8: =F8*G8 | J8: =IF(I8="","",I8/F8)
A9: L-03 | B9: リレー組立ライン3系列 | C9: DR-2412-00 | D9: 産業用リレー DR-2412形 | E9: 日勤 | F9: 1503 | G9: 19.5 | H9: =F9*G9 | J9: =IF(I9="","",I9/F9) | K9: 最古参。チョコ停が多く可動率が上がらない。更新の稟議は3年連続で見送り
A10: L-03 | B10: リレー組立ライン3系列 | C10: DR-2424-00 | D10: 産業用リレー DR-2424形 | E10: 日勤 | F10: 1461 | G10: 19.5 | H10: =F10*G10 | J10: =IF(I10="","",I10/F10) | K10: 最古参。チョコ停が多く可動率が上がらない。更新の稟議は3年連続で見送り
A11: L-04 | B11: リレー組立ライン4系列 | C11: DR-2412-00 | D11: 産業用リレー DR-2412形 | E11: 2直 | F11: 4806 | G11: 19.5 | H11: =F11*G11 | J11: =IF(I11="","",I11/F11)
A12: L-04 | B12: リレー組立ライン4系列 | C12: DR-2424-00 | D12: 産業用リレー DR-2424形 | E12: 2直 | F12: 4621 | G12: 19.5 | H12: =F12*G12 | J12: =IF(I12="","",I12/F12)
A13: L-05 | B13: リレー組立ライン5系列 | C13: DR-2412-00 | D13: 産業用リレー DR-2412形 | E13: 日勤 | F13: 2482 | G13: 19.5 | H13: =F13*G13 | J13: =IF(I13="","",I13/F13) | K13: DR-2412専用（機種切替の設定なし）
A14: L-06 | B14: リレー組立ライン6系列 | C14: DR-2424-00 | D14: 産業用リレー DR-2424形 | E14: 日勤 | F14: 2353 | G14: 19.5 | H14: =F14*G14 | J14: =IF(I14="","",I14/F14) | K14: DR-2424専用
A15: L-07 | B15: リレー組立ライン7系列 | C15: DR-2412-00 | D15: 産業用リレー DR-2412形 | E15: 日勤 | F15: 2037 | G15: 19.5 | H15: =F15*G15 | J15: =IF(I15="","",I15/F15) | K15: 近隣住宅への騒音対策で20時以降は停止。2直に組めない（2018年の住民要望・総務部合意）
A16: L-07 | B16: リレー組立ライン7系列 | C16: DR-2424-00 | D16: 産業用リレー DR-2424形 | E16: 日勤 | F16: 1967 | G16: 19.5 | H16: =F16*G16 | J16: =IF(I16="","",I16/F16) | K16: 近隣住宅への騒音対策で20時以降は停止。2直に組めない（2018年の住民要望・総務部合意）
A17: L-08 | B17: リレー組立ライン8系列（高容量形専用） | C17: DR-2412-H0 | D17: 産業用リレー DR-2412H形 | E17: 日勤 | F17: 1238 | G17: 19.5 | H17: =F17*G17 | J17: =IF(I17="","",I17/F17) | K17: 接点の溶着調整がシビア。立上げ後30分は全数検査（作業標準SOP-A08）
A18: L-09 | B18: 電磁弁組立ライン1系列 | C18: SV-1030-00 | D18: 小型電磁弁 SV-1030形 | E18: 2直 | F18: 1461 | G18: 19.5 | H18: =F18*G18 | J18: =IF(I18="","",I18/F18)
A19: L-10 | B19: 電磁弁組立ライン2系列 | C19: SV-1030-00 | D19: 小型電磁弁 SV-1030形 | E19: 日勤 | F19: 661 | G19: 19.5 | H19: =F19*G19 | J19: =IF(I19="","",I19/F19)
A20: L-10 | B20: 電磁弁組立ライン2系列 | C20: SV-1050-00 | D20: 小型電磁弁 SV-1050形 | E20: 日勤 | F20: 535 | G20: 19.5 | H20: =F20*G20 | J20: =IF(I20="","",I20/F20)
A21: L-11 | B21: 電磁弁組立ライン3系列 | C21: SV-1050-00 | D21: 小型電磁弁 SV-1050形 | E21: 2直 | F21: 1108 | G21: 19.5 | H21: =F21*G21 | J21: =IF(I21="","",I21/F21) | K21: 省電力形(SV-1050-S1)の専用治具J-118は全社に1セットのみ。S1はこのラインでしか流せない
A22: L-11 | B22: 電磁弁組立ライン3系列 | C22: SV-1050-S1 | D22: 小型電磁弁 SV-1050S形 | E22: 2直 | F22: 826 | G22: 19.5 | H22: =F22*G22 | J22: =IF(I22="","",I22/F22) | K22: 省電力形(SV-1050-S1)の専用治具J-118は全社に1セットのみ。S1はこのラインでしか流せない
A23: L-12 | B23: 電磁弁組立ライン4系列 | C23: SV-1050-00 | D23: 小型電磁弁 SV-1050形 | E23: 日勤 | F23: 577 | G23: 19.5 | H23: =F23*G23 | J23: =IF(I23="","",I23/F23)
A24: L-13 | B24: 電磁弁組立ライン5系列 | C24: SV-1030-00 | D24: 小型電磁弁 SV-1030形 | E24: 日勤 | F24: 568 | G24: 19.5 | H24: =F24*G24 | J24: =IF(I24="","",I24/F24) | K24: 半自動。人が3人つく
A25: L-13 | B25: 電磁弁組立ライン5系列 | C25: SV-1050-00 | D25: 小型電磁弁 SV-1050形 | E25: 日勤 | F25: 469 | G25: 19.5 | H25: =F25*G25 | J25: =IF(I25="","",I25/F25) | K25: 半自動。人が3人つく
A26: L-14 | B26: 電磁弁組立ライン6系列 | C26: SV-1050-00 | D26: 小型電磁弁 SV-1050形 | E26: 日勤 | F26: 605 | G26: 19.5 | H26: =F26*G26 | J26: =IF(I26="","",I26/F26)
A27: L-15 | B27: センサ組立ライン1系列 | C27: DP-6010-00 | D27: 圧力センサ DP-6010形 | E27: 日勤 | F27: 122 | G27: 19.5 | H27: =F27*G27 | J27: =IF(I27="","",I27/F27) | K27: クリーンブース内（クラス10000）。入室前の更衣に1人15分
A28: L-16 | B28: センサ組立ライン2系列（防爆対応） | C28: DP-6100-00 | D28: 圧力センサ DP-6100形 | E28: 日勤 | F28: 100 | G28: 19.5 | H28: =F28*G28 | J28: =IF(I28="","",I28/F28) | K28: 防爆形(DP-6100-E1)を流せる唯一のライン。締付トルクの自動記録装置つき。記録は10年保存（型式検定の条件）
A29: L-16 | B29: センサ組立ライン2系列（防爆対応） | C29: DP-6100-E1 | D29: 圧力センサ DP-6100E形 | E29: 日勤 | F29: 35 | G29: 19.5 | H29: =F29*G29 | J29: =IF(I29="","",I29/F29) | K29: 防爆形(DP-6100-E1)を流せる唯一のライン。締付トルクの自動記録装置つき。記録は10年保存（型式検定の条件）
A30: L-17 | B30: センサ組立ライン3系列 | C30: DP-6010-00 | D30: 圧力センサ DP-6010形 | E30: 日勤 | F30: 118 | G30: 19.5 | H30: =F30*G30 | J30: =IF(I30="","",I30/F30)
A31: L-17 | B31: センサ組立ライン3系列 | C31: DP-6100-00 | D31: 圧力センサ DP-6100形 | E31: 日勤 | F31: 102 | G31: 19.5 | H31: =F31*G31 | J31: =IF(I31="","",I31/F31)
A32: L-18 | B32: センサ組立ライン4系列 | C32: DP-6010-00 | D32: 圧力センサ DP-6010形 | E32: 日勤 | F32: 141 | G32: 19.5 | H32: =F32*G32 | J32: =IF(I32="","",I32/F32) | K32: 自動化率が高く1人で回せる
A33: L-19 | B33: センサ組立ライン5系列 | C33: DP-6100-00 | D33: 圧力センサ DP-6100形 | E33: 日勤 | F33: 83 | G33: 19.5 | H33: =F33*G33 | J33: =IF(I33="","",I33/F33)
A34: L-20 | B34: コネクタ組立ライン1系列 | C34: DC-8008-00 | D34: 車載コネクタ DC-8008形 | E34: 3直 | F34: 20251 | G34: 19.5 | H34: =F34*G34 | J34: =IF(I34="","",I34/F34)
A35: L-21 | B35: コネクタ組立ライン2系列 | C35: DC-8008-00 | D35: 車載コネクタ DC-8008形 | E35: 3直 | F35: 18918 | G35: 19.5 | H35: =F35*G35 | J35: =IF(I35="","",I35/F35) | K35: 時差自動車工業向け専用枠。カンバン日次納入のため計画変更で止められない
A36: L-21 | B36: コネクタ組立ライン2系列 | C36: DC-8016-00 | D36: 車載コネクタ DC-8016形 | E36: 3直 | F36: 12612 | G36: 19.5 | H36: =F36*G36 | J36: =IF(I36="","",I36/F36) | K36: 時差自動車工業向け専用枠。カンバン日次納入のため計画変更で止められない
A37: L-22 | B37: コネクタ組立ライン3系列 | C37: DC-8016-00 | D37: 車載コネクタ DC-8016形 | E37: 3直 | F37: 13813 | G37: 19.5 | H37: =F37*G37 | J37: =IF(I37="","",I37/F37) | K37: 時差自動車工業向け専用枠。カンバン日次納入
A38: L-23 | B38: コネクタ組立ライン4系列 | C38: DC-8016-00 | D38: 車載コネクタ DC-8016形 | E38: 3直 | F38: 12709 | G38: 19.5 | H38: =F38*G38 | J38: =IF(I38="","",I38/F38) | K38: 時差自動車工業向け専用枠。カンバン日次納入
A39: L-24 | B39: コネクタ組立ライン5系列 | C39: DC-8008-00 | D39: 車載コネクタ DC-8008形 | E39: 2直 | F39: 11017 | G39: 19.5 | H39: =F39*G39 | J39: =IF(I39="","",I39/F39) | K39: 市販流通分（大甘商事向け）の受け皿
A40: L-24 | B40: コネクタ組立ライン5系列 | C40: DC-8016-00 | D40: 車載コネクタ DC-8016形 | E40: 2直 | F40: 7586 | G40: 19.5 | H40: =F40*G40 | J40: =IF(I40="","",I40/F40) | K40: 市販流通分（大甘商事向け）の受け皿
A41: L-25 | B41: コネクタ組立ライン6系列 | C41: DC-8016-00 | D41: 車載コネクタ DC-8016形 | E41: 2直 | F41: 8160 | G41: 9.5 | H41: =F41*G41 | J41: =IF(I41="","",I41/F41) | K41: 【10.0日停止】9月は前半2週が丸ごと使えない。オーバーホールは2年ごと・延期不可（生産技術課）
A42: L-25 | B42: コネクタ組立ライン6系列 | C42: DC-8016-W1 | D42: 車載コネクタ DC-8016W形 | E42: 2直 | F42: 6175 | G42: 9.5 | H42: =F42*G42 | J42: =IF(I42="","",I42/F42) | K42: 【10.0日停止】9月は前半2週が丸ごと使えない。オーバーホールは2年ごと・延期不可（生産技術課）
A43: L-26 | B43: コネクタ組立ライン7系列（防水形） | C43: DC-8016-W1 | D43: 車載コネクタ DC-8016W形 | E43: 2直 | F43: 6439 | G43: 19.5 | H43: =F43*G43 | J43: =IF(I43="","",I43/F43) | K43: 2026年4月新設。立上げ中で歩留が計画値98.5%に未達。シールマット挿入部の調整が続いている
A44: L-27 | B44: 多品種対応ライン1系列 | C44: DR-2412-00 | D44: 産業用リレー DR-2412形 | E44: 日勤 | F44: 1076 | G44: 19.5 | H44: =F44*G44 | J44: =IF(I44="","",I44/F44) | K44: 小ロット・スポット対応。段取が長く、繋ぐと能力が出ない
A45: L-27 | B45: 多品種対応ライン1系列 | C45: DR-2424-00 | D45: 産業用リレー DR-2424形 | E45: 日勤 | F45: 1047 | G45: 19.5 | H45: =F45*G45 | J45: =IF(I45="","",I45/F45) | K45: 小ロット・スポット対応。段取が長く、繋ぐと能力が出ない
A46: L-27 | B46: 多品種対応ライン1系列 | C46: DR-2412-H0 | D46: 産業用リレー DR-2412H形 | E46: 日勤 | F46: 745 | G46: 19.5 | H46: =F46*G46 | J46: =IF(I46="","",I46/F46) | K46: 小ロット・スポット対応。段取が長く、繋ぐと能力が出ない
... A56: L-28 | B56: 多品種対応ライン2系列（試作兼用） | C56: DC-8016-00 | D56: 車載コネクタ DC-8016形 | E56: 日勤 | F56: 1566 | G56: 19.5 | H56: =F56*G56 | J56: =IF(I56="","",I56/F56) | K56: 生産技術課の試作・DR3量産試作にも使う。月の3割は試作で埋まる（量産に当てにしない前提）。SV-1050-S1は治具J-118が無いため実際には流せない（設定だけ残っている）
D58: 合計 | I58: =SUM(I5:I56)

Sheet ライン別負荷
A1: 2026年9月度 ライン別 負荷率
A2: 負荷率 ＝ 所要日数の合計 ÷ 実効稼働日数。100%を超えたら割り付けを見直してください。
A4: ライン | B4: ライン名称 | C4: シフト | D4: 要員 | E4: 実効稼働日数 | F4: 計画数量 合計 | G4: 所要日数 合計 | H4: 負荷率 | I4: 判定 | J4: 備考
A5: L-01 | B5: リレー組立ライン1系列 | C5: 2直 | D5: 2 | E5: 19.5 | F5: =SUMIF('9月度(記入用)'!$A$5:$A$56,A5,'9月度(記入用)'!$I$5:$I$56) | G5: =SUMIF('9月度(記入用)'!$A$5:$A$56,A5,'9月度(記入用)'!$J$5:$J$56) | H5: =IF(E5=0,"",G5/E5) | I5: =IF(H5="","",IF(H5>1,"能力超過",IF(H5>0.9,"余裕なし","")))
A6: L-02 | B6: リレー組立ライン2系列 | C6: 2直 | D6: 2 | E6: 19.5 | F6: =SUMIF('9月度(記入用)'!$A$5:$A$56,A6,'9月度(記入用)'!$I$5:$I$56) | G6: =SUMIF('9月度(記入用)'!$A$5:$A$56,A6,'9月度(記入用)'!$J$5:$J$56) | H6: =IF(E6=0,"",G6/E6) | I6: =IF(H6="","",IF(H6>1,"能力超過",IF(H6>0.9,"余裕なし","")))
A7: L-03 | B7: リレー組立ライン3系列 | C7: 日勤 | D7: 3 | E7: 19.5 | F7: =SUMIF('9月度(記入用)'!$A$5:$A$56,A7,'9月度(記入用)'!$I$5:$I$56) | G7: =SUMIF('9月度(記入用)'!$A$5:$A$56,A7,'9月度(記入用)'!$J$5:$J$56) | H7: =IF(E7=0,"",G7/E7) | I7: =IF(H7="","",IF(H7>1,"能力超過",IF(H7>0.9,"余裕なし",""))) | J7: 最古参。チョコ停が多く可動率が上がらない。更新の稟議は3年連続で見送り
A8: L-04 | B8: リレー組立ライン4系列 | C8: 2直 | D8: 2 | E8: 19.5 | F8: =SUMIF('9月度(記入用)'!$A$5:$A$56,A8,'9月度(記入用)'!$I$5:$I$56) | G8: =SUMIF('9月度(記入用)'!$A$5:$A$56,A8,'9月度(記入用)'!$J$5:$J$56) | H8: =IF(E8=0,"",G8/E8) | I8: =IF(H8="","",IF(H8>1,"能力超過",IF(H8>0.9,"余裕なし","")))
A9: L-05 | B9: リレー組立ライン5系列 | C9: 日勤 | D9: 1 | E9: 19.5 | F9: =SUMIF('9月度(記入用)'!$A$5:$A$56,A9,'9月度(記入用)'!$I$5:$I$56) | G9: =SUMIF('9月度(記入用)'!$A$5:$A$56,A9,'9月度(記入用)'!$J$5:$J$56) | H9: =IF(E9=0,"",G9/E9) | I9: =IF(H9="","",IF(H9>1,"能力超過",IF(H9>0.9,"余裕なし",""))) | J9: DR-2412専用（機種切替の設定なし）
A10: L-06 | B10: リレー組立ライン6系列 | C10: 日勤 | D10: 1 | E10: 19.5 | F10: =SUMIF('9月度(記入用)'!$A$5:$A$56,A10,'9月度(記入用)'!$I$5:$I$56) | G10: =SUMIF('9月度(記入用)'!$A$5:$A$56,A10,'9月度(記入用)'!$J$5:$J$56) | H10: =IF(E10=0,"",G10/E10) | I10: =IF(H10="","",IF(H10>1,"能力超過",IF(H10>0.9,"余裕なし",""))) | J10: DR-2424専用
A11: L-07 | B11: リレー組立ライン7系列 | C11: 日勤 | D11: 2 | E11: 19.5 | F11: =SUMIF('9月度(記入用)'!$A$5:$A$56,A11,'9月度(記入用)'!$I$5:$I$56) | G11: =SUMIF('9月度(記入用)'!$A$5:$A$56,A11,'9月度(記入用)'!$J$5:$J$56) | H11: =IF(E11=0,"",G11/E11) | I11: =IF(H11="","",IF(H11>1,"能力超過",IF(H11>0.9,"余裕なし",""))) | J11: 近隣住宅への騒音対策で20時以降は停止。2直に組めない（2018年の住民要望・総務部合意）
A12: L-08 | B12: リレー組立ライン8系列（高容量形専用） | C12: 日勤 | D12: 2 | E12: 19.5 | F12: =SUMIF('9月度(記入用)'!$A$5:$A$56,A12,'9月度(記入用)'!$I$5:$I$56) | G12: =SUMIF('9月度(記入用)'!$A$5:$A$56,A12,'9月度(記入用)'!$J$5:$J$56) | H12: =IF(E12=0,"",G12/E12) | I12: =IF(H12="","",IF(H12>1,"能力超過",IF(H12>0.9,"余裕なし",""))) | J12: 接点の溶着調整がシビア。立上げ後30分は全数検査（作業標準SOP-A08）
A13: L-09 | B13: 電磁弁組立ライン1系列 | C13: 2直 | D13: 2 | E13: 19.5 | F13: =SUMIF('9月度(記入用)'!$A$5:$A$56,A13,'9月度(記入用)'!$I$5:$I$56) | G13: =SUMIF('9月度(記入用)'!$A$5:$A$56,A13,'9月度(記入用)'!$J$5:$J$56) | H13: =IF(E13=0,"",G13/E13) | I13: =IF(H13="","",IF(H13>1,"能力超過",IF(H13>0.9,"余裕なし","")))
A14: L-10 | B14: 電磁弁組立ライン2系列 | C14: 日勤 | D14: 2 | E14: 19.5 | F14: =SUMIF('9月度(記入用)'!$A$5:$A$56,A14,'9月度(記入用)'!$I$5:$I$56) | G14: =SUMIF('9月度(記入用)'!$A$5:$A$56,A14,'9月度(記入用)'!$J$5:$J$56) | H14: =IF(E14=0,"",G14/E14) | I14: =IF(H14="","",IF(H14>1,"能力超過",IF(H14>0.9,"余裕なし","")))
A15: L-11 | B15: 電磁弁組立ライン3系列 | C15: 2直 | D15: 2 | E15: 19.5 | F15: =SUMIF('9月度(記入用)'!$A$5:$A$56,A15,'9月度(記入用)'!$I$5:$I$56) | G15: =SUMIF('9月度(記入用)'!$A$5:$A$56,A15,'9月度(記入用)'!$J$5:$J$56) | H15: =IF(E15=0,"",G15/E15) | I15: =IF(H15="","",IF(H15>1,"能力超過",IF(H15>0.9,"余裕なし",""))) | J15: 省電力形(SV-1050-S1)の専用治具J-118は全社に1セットのみ。S1はこのラインでしか流せない
A16: L-12 | B16: 電磁弁組立ライン4系列 | C16: 日勤 | D16: 2 | E16: 19.5 | F16: =SUMIF('9月度(記入用)'!$A$5:$A$56,A16,'9月度(記入用)'!$I$5:$I$56) | G16: =SUMIF('9月度(記入用)'!$A$5:$A$56,A16,'9月度(記入用)'!$J$5:$J$56) | H16: =IF(E16=0,"",G16/E16) | I16: =IF(H16="","",IF(H16>1,"能力超過",IF(H16>0.9,"余裕なし","")))
A17: L-13 | B17: 電磁弁組立ライン5系列 | C17: 日勤 | D17: 3 | E17: 19.5 | F17: =SUMIF('9月度(記入用)'!$A$5:$A$56,A17,'9月度(記入用)'!$I$5:$I$56) | G17: =SUMIF('9月度(記入用)'!$A$5:$A$56,A17,'9月度(記入用)'!$J$5:$J$56) | H17: =IF(E17=0,"",G17/E17) | I17: =IF(H17="","",IF(H17>1,"能力超過",IF(H17>0.9,"余裕なし",""))) | J17: 半自動。人が3人つく
A18: L-14 | B18: 電磁弁組立ライン6系列 | C18: 日勤 | D18: 2 | E18: 19.5 | F18: =SUMIF('9月度(記入用)'!$A$5:$A$56,A18,'9月度(記入用)'!$I$5:$I$56) | G18: =SUMIF('9月度(記入用)'!$A$5:$A$56,A18,'9月度(記入用)'!$J$5:$J$56) | H18: =IF(E18=0,"",G18/E18) | I18: =IF(H18="","",IF(H18>1,"能力超過",IF(H18>0.9,"余裕なし","")))
A19: L-15 | B19: センサ組立ライン1系列 | C19: 日勤 | D19: 2 | E19: 19.5 | F19: =SUMIF('9月度(記入用)'!$A$5:$A$56,A19,'9月度(記入用)'!$I$5:$I$56) | G19: =SUMIF('9月度(記入用)'!$A$5:$A$56,A19,'9月度(記入用)'!$J$5:$J$56) | H19: =IF(E19=0,"",G19/E19) | I19: =IF(H19="","",IF(H19>1,"能力超過",IF(H19>0.9,"余裕なし",""))) | J19: クリーンブース内（クラス10000）。入室前の更衣に1人15分
A20: L-16 | B20: センサ組立ライン2系列（防爆対応） | C20: 日勤 | D20: 2 | E20: 19.5 | F20: =SUMIF('9月度(記入用)'!$A$5:$A$56,A20,'9月度(記入用)'!$I$5:$I$56) | G20: =SUMIF('9月度(記入用)'!$A$5:$A$56,A20,'9月度(記入用)'!$J$5:$J$56) | H20: =IF(E20=0,"",G20/E20) | I20: =IF(H20="","",IF(H20>1,"能力超過",IF(H20>0.9,"余裕なし",""))) | J20: 防爆形(DP-6100-E1)を流せる唯一のライン。締付トルクの自動記録装置つき。記録は10年保存（型式検定の条件）
A21: L-17 | B21: センサ組立ライン3系列 | C21: 日勤 | D21: 2 | E21: 19.5 | F21: =SUMIF('9月度(記入用)'!$A$5:$A$56,A21,'9月度(記入用)'!$I$5:$I$56) | G21: =SUMIF('9月度(記入用)'!$A$5:$A$56,A21,'9月度(記入用)'!$J$5:$J$56) | H21: =IF(E21=0,"",G21/E21) | I21: =IF(H21="","",IF(H21>1,"能力超過",IF(H21>0.9,"余裕なし","")))
A22: L-18 | B22: センサ組立ライン4系列 | C22: 日勤 | D22: 1 | E22: 19.5 | F22: =SUMIF('9月度(記入用)'!$A$5:$A$56,A22,'9月度(記入用)'!$I$5:$I$56) | G22: =SUMIF('9月度(記入用)'!$A$5:$A$56,A22,'9月度(記入用)'!$J$5:$J$56) | H22: =IF(E22=0,"",G22/E22) | I22: =IF(H22="","",IF(H22>1,"能力超過",IF(H22>0.9,"余裕なし",""))) | J22: 自動化率が高く1人で回せる
A23: L-19 | B23: センサ組立ライン5系列 | C23: 日勤 | D23: 2 | E23: 19.5 | F23: =SUMIF('9月度(記入用)'!$A$5:$A$56,A23,'9月度(記入用)'!$I$5:$I$56) | G23: =SUMIF('9月度(記入用)'!$A$5:$A$56,A23,'9月度(記入用)'!$J$5:$J$56) | H23: =IF(E23=0,"",G23/E23) | I23: =IF(H23="","",IF(H23>1,"能力超過",IF(H23>0.9,"余裕なし","")))
A24: L-20 | B24: コネクタ組立ライン1系列 | C24: 3直 | D24: 1 | E24: 19.5 | F24: =SUMIF('9月度(記入用)'!$A$5:$A$56,A24,'9月度(記入用)'!$I$5:$I$56) | G24: =SUMIF('9月度(記入用)'!$A$5:$A$56,A24,'9月度(記入用)'!$J$5:$J$56) | H24: =IF(E24=0,"",G24/E24) | I24: =IF(H24="","",IF(H24>1,"能力超過",IF(H24>0.9,"余裕なし","")))
A25: L-21 | B25: コネクタ組立ライン2系列 | C25: 3直 | D25: 1 | E25: 19.5 | F25: =SUMIF('9月度(記入用)'!$A$5:$A$56,A25,'9月度(記入用)'!$I$5:$I$56) | G25: =SUMIF('9月度(記入用)'!$A$5:$A$56,A25,'9月度(記入用)'!$J$5:$J$56) | H25: =IF(E25=0,"",G25/E25) | I25: =IF(H25="","",IF(H25>1,"能力超過",IF(H25>0.9,"余裕なし",""))) | J25: 時差自動車工業向け専用枠。カンバン日次納入のため計画変更で止められない
A26: L-22 | B26: コネクタ組立ライン3系列 | C26: 3直 | D26: 1 | E26: 19.5 | F26: =SUMIF('9月度(記入用)'!$A$5:$A$56,A26,'9月度(記入用)'!$I$5:$I$56) | G26: =SUMIF('9月度(記入用)'!$A$5:$A$56,A26,'9月度(記入用)'!$J$5:$J$56) | H26: =IF(E26=0,"",G26/E26) | I26: =IF(H26="","",IF(H26>1,"能力超過",IF(H26>0.9,"余裕なし",""))) | J26: 時差自動車工業向け専用枠。カンバン日次納入
A27: L-23 | B27: コネクタ組立ライン4系列 | C27: 3直 | D27: 1 | E27: 19.5 | F27: =SUMIF('9月度(記入用)'!$A$5:$A$56,A27,'9月度(記入用)'!$I$5:$I$56) | G27: =SUMIF('9月度(記入用)'!$A$5:$A$56,A27,'9月度(記入用)'!$J$5:$J$56) | H27: =IF(E27=0,"",G27/E27) | I27: =IF(H27="","",IF(H27>1,"能力超過",IF(H27>0.9,"余裕なし",""))) | J27: 時差自動車工業向け専用枠。カンバン日次納入
A28: L-24 | B28: コネクタ組立ライン5系列 | C28: 2直 | D28: 1 | E28: 19.5 | F28: =SUMIF('9月度(記入用)'!$A$5:$A$56,A28,'9月度(記入用)'!$I$5:$I$56) | G28: =SUMIF('9月度(記入用)'!$A$5:$A$56,A28,'9月度(記入用)'!$J$5:$J$56) | H28: =IF(E28=0,"",G28/E28) | I28: =IF(H28="","",IF(H28>1,"能力超過",IF(H28>0.9,"余裕なし",""))) | J28: 市販流通分（大甘商事向け）の受け皿
A29: L-25 | B29: コネクタ組立ライン6系列 | C29: 2直 | D29: 1 | E29: 9.5 | F29: =SUMIF('9月度(記入用)'!$A$5:$A$56,A29,'9月度(記入用)'!$I$5:$I$56) | G29: =SUMIF('9月度(記入用)'!$A$5:$A$56,A29,'9月度(記入用)'!$J$5:$J$56) | H29: =IF(E29=0,"",G29/E29) | I29: =IF(H29="","",IF(H29>1,"能力超過",IF(H29>0.9,"余裕なし",""))) | J29: 9月は前半2週が丸ごと使えない。オーバーホールは2年ごと・延期不可（生産技術課）
A30: L-26 | B30: コネクタ組立ライン7系列（防水形） | C30: 2直 | D30: 2 | E30: 19.5 | F30: =SUMIF('9月度(記入用)'!$A$5:$A$56,A30,'9月度(記入用)'!$I$5:$I$56) | G30: =SUMIF('9月度(記入用)'!$A$5:$A$56,A30,'9月度(記入用)'!$J$5:$J$56) | H30: =IF(E30=0,"",G30/E30) | I30: =IF(H30="","",IF(H30>1,"能力超過",IF(H30>0.9,"余裕なし",""))) | J30: 2026年4月新設。立上げ中で歩留が計画値98.5%に未達。シールマット挿入部の調整が続いている
A31: L-27 | B31: 多品種対応ライン1系列 | C31: 日勤 | D31: 3 | E31: 19.5 | F31: =SUMIF('9月度(記入用)'!$A$5:$A$56,A31,'9月度(記入用)'!$I$5:$I$56) | G31: =SUMIF('9月度(記入用)'!$A$5:$A$56,A31,'9月度(記入用)'!$J$5:$J$56) | H31: =IF(E31=0,"",G31/E31) | I31: =IF(H31="","",IF(H31>1,"能力超過",IF(H31>0.9,"余裕なし",""))) | J31: 小ロット・スポット対応。段取が長く、繋ぐと能力が出ない
A32: L-28 | B32: 多品種対応ライン2系列（試作兼用） | C32: 日勤 | D32: 3 | E32: 19.5 | F32: =SUMIF('9月度(記入用)'!$A$5:$A$56,A32,'9月度(記入用)'!$I$5:$I$56) | G32: =SUMIF('9月度(記入用)'!$A$5:$A$56,A32,'9月度(記入用)'!$J$5:$J$56) | H32: =IF(E32=0,"",G32/E32) | I32: =IF(H32="","",IF(H32>1,"能力超過",IF(H32>0.9,"余裕なし",""))) | J32: 生産技術課の試作・DR3量産試作にも使う。月の3割は試作で埋まる（量産に当てにしない前提）。SV-1050-S1は治具J-118が無いため実際には流せない（設定だけ残っている）

Sheet 機種別過不足
A1: 2026年9月度 機種別 計画 対 需要
A4: 機種 | B4: 品名 | C4: 9月度 需要 | D4: 計画 合計 | E4: 過不足 | F4: 判定 | G4: 流せるライン数 | H4: 備考
A5: DR-2412-00 | B5: 産業用リレー DR-2412形 | C5: 206000 | D5: =SUMIF('9月度(記入用)'!$C$5:$C$56,A5,'9月度(記入用)'!$I$5:$I$56) | E5: =D5-C5 | F5: =IF(E5<0,"不足",IF(E5>0,"超過","")) | G5: 8 | H5: 主力機種。明和電装向けが7割
A6: DR-2424-00 | B6: 産業用リレー DR-2424形 | C6: 96000 | D6: =SUMIF('9月度(記入用)'!$C$5:$C$56,A6,'9月度(記入用)'!$I$5:$I$56) | E6: =D6-C6 | F6: =IF(E6<0,"不足",IF(E6>0,"超過","")) | G6: 8
A7: DR-2412-H0 | B7: 産業用リレー DR-2412H形 | C7: 11000 | D7: =SUMIF('9月度(記入用)'!$C$5:$C$56,A7,'9月度(記入用)'!$I$5:$I$56) | E7: =D7-C7 | F7: =IF(E7<0,"不足",IF(E7>0,"超過","")) | G7: 2 | H7: 旧採番（枝番H0）。品番検索で引っかからない件は品質保証部が把握済み・是正未着手
A8: SV-1030-00 | B8: 小型電磁弁 SV-1030形 | C8: 24500 | D8: =SUMIF('9月度(記入用)'!$C$5:$C$56,A8,'9月度(記入用)'!$I$5:$I$56) | E8: =D8-C8 | F8: =IF(E8<0,"不足",IF(E8>0,"超過","")) | G8: 5
A9: SV-1050-00 | B9: 小型電磁弁 SV-1050形 | C9: 32000 | D9: =SUMIF('9月度(記入用)'!$C$5:$C$56,A9,'9月度(記入用)'!$I$5:$I$56) | E9: =D9-C9 | F9: =IF(E9<0,"不足",IF(E9>0,"超過","")) | G9: 7 | H9: 自社の自動組立ラインでも使用（社内消費あり）
A10: SV-1050-S1 | B10: 小型電磁弁 SV-1050S形 | C10: 5200 | D10: =SUMIF('9月度(記入用)'!$C$5:$C$56,A10,'9月度(記入用)'!$I$5:$I$56) | E10: =D10-C10 | F10: =IF(E10<0,"不足",IF(E10>0,"超過","")) | G10: 2 | H10: 専用治具が1セットのみ。L-11でしか流せない
A11: DP-6010-00 | B11: 圧力センサ DP-6010形 | C11: 4300 | D11: =SUMIF('9月度(記入用)'!$C$5:$C$56,A11,'9月度(記入用)'!$I$5:$I$56) | E11: =D11-C11 | F11: =IF(E11<0,"不足",IF(E11>0,"超過","")) | G11: 4
A12: DP-6100-00 | B12: 圧力センサ DP-6100形 | C12: 2900 | D12: =SUMIF('9月度(記入用)'!$C$5:$C$56,A12,'9月度(記入用)'!$I$5:$I$56) | E12: =D12-C12 | F12: =IF(E12<0,"不足",IF(E12>0,"超過","")) | G12: 3
A13: DP-6100-E1 | B13: 圧力センサ DP-6100E形 | C13: 240 | D13: =SUMIF('9月度(記入用)'!$C$5:$C$56,A13,'9月度(記入用)'!$I$5:$I$56) | E13: =D13-C13 | F13: =IF(E13<0,"不足",IF(E13>0,"超過","")) | G13: 1 | H13: 代替ラインなし（単一障害点）
A14: DC-8008-00 | B14: 車載コネクタ DC-8008形 | C14: 412000 | D14: =SUMIF('9月度(記入用)'!$C$5:$C$56,A14,'9月度(記入用)'!$I$5:$I$56) | E14: =D14-C14 | F14: =IF(E14<0,"不足",IF(E14>0,"超過","")) | G14: 4 | H14: 時差自動車工業向け。カンバン納入（日次）
A15: DC-8016-00 | B15: 車載コネクタ DC-8016形 | C15: 705000 | D15: =SUMIF('9月度(記入用)'!$C$5:$C$56,A15,'9月度(記入用)'!$I$5:$I$56) | E15: =D15-C15 | F15: =IF(E15<0,"不足",IF(E15>0,"超過","")) | G15: 6 | H15: 時差自動車工業向け。カンバン納入（日次）
A16: DC-8016-W1 | B16: 車載コネクタ DC-8016W形 | C16: 128000 | D16: =SUMIF('9月度(記入用)'!$C$5:$C$56,A16,'9月度(記入用)'!$I$5:$I$56) | E16: =D16-C16 | F16: =IF(E16<0,"不足",IF(E16>0,"超過","")) | G16: 2 | H16: 2026年4月量産開始の新機種。内示が毎月上振れしている

Sheet 8月度(実績)
A1: 2026年8月度 生産実績（確定）
A2: 出典: 品質保証部 様式Q-2 月次不良集計（投入数・不良数）
A4: ライン | B4: 機種 | C4: 品名 | D4: 投入数 | E4: 不良数 | F4: 良品数 | G4: 歩留 | H4: 不良モード1 | I4: 件数 | J4: 不良モード2 | K4: 件数 | L4: 不良モード3 | M4: 件数
A5: L-01 | B5: DR-2412-00 | C5: 産業用リレー DR-2412形 | D5: 9180 | E5: 129 | F5: =D5-E5 | G5: =IF(D5=0,"",F5/D5) | H5: 異物混入 | I5: 55 | J5: 接点溶着 | K5: 38 | L5: ケース割れ | M5: 36
A6: L-01 | B6: DR-2424-00 | C6: 産業用リレー DR-2424形 | D6: 6030 | E6: 84 | F6: =D6-E6 | G6: =IF(D6=0,"",F6/D6) | H6: ケース割れ | I6: 43 | J6: 動作電圧NG | K6: 21 | L6: 異物混入 | M6: 20
A7: L-02 | B7: DR-2412-00 | C7: 産業用リレー DR-2412形 | D7: 10160 | E7: 163 | F7: =D7-E7 | G7: =IF(D7=0,"",F7/D7) | H7: 接点溶着 | I7: 90 | J7: コイル断線 | K7: 42 | L7: 動作電圧NG | M7: 31
A8: L-02 | B8: DR-2424-00 | C8: 産業用リレー DR-2424形 | D8: 5120 | E8: 82 | F8: =D8-E8 | G8: =IF(D8=0,"",F8/D8) | H8: コイル断線 | I8: 37 | J8: ケース割れ | K8: 24 | L8: 端子曲がり | M8: 21
A9: L-03 | B9: DR-2412-00 | C9: 産業用リレー DR-2412形 | D9: 10130 | E9: 284 | F9: =D9-E9 | G9: =IF(D9=0,"",F9/D9) | H9: 異物混入 | I9: 149 | J9: 接点溶着 | K9: 86 | L9: ケース割れ | M9: 49
A10: L-03 | B10: DR-2424-00 | C10: 産業用リレー DR-2424形 | D10: 6090 | E10: 171 | F10: =D10-E10 | G10: =IF(D10=0,"",F10/D10) | H10: ケース割れ | I10: 81 | J10: 動作電圧NG | K10: 42 | L10: 異物混入 | M10: 48
A11: L-04 | B11: DR-2412-00 | C11: 産業用リレー DR-2412形 | D11: 8510 | E11: 102 | F11: =D11-E11 | G11: =IF(D11=0,"",F11/D11) | H11: ケース割れ | I11: 49 | J11: 動作電圧NG | K11: 25 | L11: 異物混入 | M11: 28
A12: L-04 | B12: DR-2424-00 | C12: 産業用リレー DR-2424形 | D12: 5100 | E12: 61 | F12: =D12-E12 | G12: =IF(D12=0,"",F12/D12) | H12: 異物混入 | I12: 29 | J12: 接点溶着 | K12: 18 | L12: ケース割れ | M12: 14
A13: L-05 | B13: DR-2412-00 | C13: 産業用リレー DR-2412形 | D13: 24340 | E13: 268 | F13: =D13-E13 | G13: =IF(D13=0,"",F13/D13) | H13: コイル断線 | I13: 131 | J13: ケース割れ | K13: 80 | L13: 端子曲がり | M13: 57
A14: L-06 | B14: DR-2424-00 | C14: 産業用リレー DR-2424形 | D14: 10650 | E14: 138 | F14: =D14-E14 | G14: =IF(D14=0,"",F14/D14) | H14: 異物混入 | I14: 62 | J14: 接点溶着 | K14: 41 | L14: ケース割れ | M14: 35
A15: L-07 | B15: DR-2412-00 | C15: 産業用リレー DR-2412形 | D15: 11370 | E15: 171 | F15: =D15-E15 | G15: =IF(D15=0,"",F15/D15) | H15: 異物混入 | I15: 93 | J15: 接点溶着 | K15: 36 | L15: ケース割れ | M15: 42
A16: L-07 | B16: DR-2424-00 | C16: 産業用リレー DR-2424形 | D16: 6100 | E16: 92 | F16: =D16-E16 | G16: =IF(D16=0,"",F16/D16) | H16: 端子曲がり | I16: 51 | J16: 異物混入 | K16: 24 | L16: コイル断線 | M16: 17
... A56: L-28 | B56: DC-8016-00 | C56: 車載コネクタ DC-8016形 | D56: 11520 | E56: 369 | F56: =D56-E56 | G56: =IF(D56=0,"",F56/D56) | H56: 端子未挿入 | I56: 178 | J56: ハウジング欠け | K56: 110 | L56: 嵌合力NG | M56: 81

Sheet 需要(内示)
A1: 得意先内示・確定受注
A2: 8月度=実績 9月度=確定 10月度=内示 11月度=参考
A4: 得意先コード | B4: 得意先名 | C4: 機種 | D4: 品名 | E4: 8月度 実績 | F4: 9月度 確定 | G4: 10月度 内示 | H4: 11月度 参考 | I4: 前月比 | J4: 納入形態 | K4: 備考
A5: C-02 | B5: 明和電装 | C5: DR-2412-00 | D5: 産業用リレー DR-2412形 | E5: 140000 | F5: 168000 | G5: 150000 | H5: 145000 | I5: =IF(E5=0,"",F5/E5-1) | J5: 月2回（10日・25日）
A6: C-05 | B6: 大甘商事 | C6: DR-2412-00 | D6: 産業用リレー DR-2412形 | E6: 40000 | F6: 38000 | G6: 40000 | H6: 40000 | I6: =IF(E6=0,"",F6/E6-1) | J6: 月1回（月末）
A7: C-02 | B7: 明和電装 | C7: DR-2424-00 | D7: 産業用リレー DR-2424形 | E7: 72000 | F7: 74000 | G7: 72000 | H7: 70000 | I7: =IF(E7=0,"",F7/E7-1) | J7: 月2回（10日・25日）
A8: C-05 | B8: 大甘商事 | C8: DR-2424-00 | D8: 産業用リレー DR-2424形 | E8: 23000 | F8: 22000 | G8: 23000 | H8: 23000 | I8: =IF(E8=0,"",F8/E8-1) | J8: 月1回（月末）
A9: C-02 | B9: 明和電装 | C9: DR-2412-H0 | D9: 産業用リレー DR-2412H形 | E9: 12000 | F9: 11000 | G9: 13000 | H9: 12000 | I9: =IF(E9=0,"",F9/E9-1) | J9: 月2回（10日・25日）
A10: C-03 | B10: 前田折機械 | C10: SV-1030-00 | D10: 小型電磁弁 SV-1030形 | E10: 18000 | F10: 18500 | G10: 18000 | H10: 18000 | I10: =IF(E10=0,"",F10/E10-1) | J10: 週1回（毎週水曜）
A11: C-05 | B11: 大甘商事 | C11: SV-1030-00 | D11: 小型電磁弁 SV-1030形 | E11: 6000 | F11: 6000 | G11: 6000 | H11: 6000 | I11: =IF(E11=0,"",F11/E11-1) | J11: 月1回（月末）
A12: C-03 | B12: 前田折機械 | C12: SV-1050-00 | D12: 小型電磁弁 SV-1050形 | E12: 24000 | F12: 25000 | G12: 24000 | H12: 24000 | I12: =IF(E12=0,"",F12/E12-1) | J12: 週1回（毎週水曜）
A13: C-05 | B13: 大甘商事 | C13: SV-1050-00 | D13: 小型電磁弁 SV-1050形 | E13: 7000 | F13: 7000 | G13: 7000 | H13: 7000 | I13: =IF(E13=0,"",F13/E13-1) | J13: 月1回（月末）
A14: C-03 | B14: 前田折機械 | C14: SV-1050-S1 | D14: 小型電磁弁 SV-1050S形 | E14: 3500 | F14: 5200 | G14: 5600 | H14: 6000 | I14: =IF(E14=0,"",F14/E14-1) | J14: 週1回（毎週水曜） | K14: 省エネ補助金の申請が通った客先が増え、需要が伸びている
A15: C-04 | B15: 灰谷計装 | C15: DP-6010-00 | D15: 圧力センサ DP-6010形 | E15: 4200 | F15: 4300 | G15: 4200 | H15: 4200 | I15: =IF(E15=0,"",F15/E15-1) | J15: 受注生産（都度）
A16: C-04 | B16: 灰谷計装 | C16: DP-6100-00 | D16: 圧力センサ DP-6100形 | E16: 2800 | F16: 2900 | G16: 2800 | H16: 2800 | I16: =IF(E16=0,"",F16/E16-1) | J16: 受注生産（都度）
A17: C-04 | B17: 灰谷計装 | C17: DP-6100-E1 | D17: 圧力センサ DP-6100E形 | E17: 180 | F17: 240 | G17: 120 | H17: 120 | I17: =IF(E17=0,"",F17/E17-1) | J17: 受注生産（都度） | K17: 9月は化学プラントの定期修理に合わせた案件が入っている（4月に引合いあり）
A18: C-01 | B18: 時差自動車 | C18: DC-8008-00 | D18: 車載コネクタ DC-8008形 | E18: 380000 | F18: 372000 | G18: 380000 | H18: 375000 | I18: =IF(E18=0,"",F18/E18-1) | J18: 日次カンバン（前日15時確定・翌朝8時納入）
A19: C-05 | B19: 大甘商事 | C19: DC-8008-00 | D19: 車載コネクタ DC-8008形 | E19: 40000 | F19: 40000 | G19: 40000 | H19: 40000 | I19: =IF(E19=0,"",F19/E19-1) | J19: 月1回（月末）
A20: C-01 | B20: 時差自動車 | C20: DC-8016-00 | D20: 車載コネクタ DC-8016形 | E20: 620000 | F20: 645000 | G20: 660000 | H20: 650000 | I20: =IF(E20=0,"",F20/E20-1) | J20: 日次カンバン（前日15時確定・翌朝8時納入） | K20: 新型車の生産計画が上振れ（客先の8月度内示会にて）
A21: C-05 | B21: 大甘商事 | C21: DC-8016-00 | D21: 車載コネクタ DC-8016形 | E21: 60000 | F21: 60000 | G21: 60000 | H21: 60000 | I21: =IF(E21=0,"",F21/E21-1) | J21: 月1回（月末）
A22: C-01 | B22: 時差自動車 | C22: DC-8016-W1 | D22: 車載コネクタ DC-8016W形 | E22: 96000 | F22: 128000 | G22: 142000 | H22: 150000 | I22: =IF(E22=0,"",F22/E22-1) | J22: 日次カンバン（前日15時確定・翌朝8時納入） | K22: 内示が3か月連続で上振れ。客先は「防水仕様の採用車種が増えた」と説明。当社の量産立上げは2026年4月

Sheet 制約条件
A1: 2026年9月度 計画を立てる前に確認する制約
A3: 区分 | B3: 対象 | C3: 内容 | D3: 生産計画への影響
A4: 操業カレンダー | B4: IM-03 | C4: 2026-09-02（水）IM-03 金型メンテのため成形停止（1/3日目） | D4: 実効稼働日数が減ります（この日の能力係数 1）
A5: 操業カレンダー | B5: IM-03 | C5: 2026-09-03（木）IM-03 金型メンテのため成形停止（2/3日目） | D5: 実効稼働日数が減ります（この日の能力係数 1）
A6: 操業カレンダー | B6: IM-03 | C6: 2026-09-04（金）IM-03 金型メンテのため成形停止（3/3日目） | D6: 実効稼働日数が減ります（この日の能力係数 1）
A7: 操業カレンダー | B7: L-25 | C7: 2026-09-07（月）L-25 定期オーバーホール（1/10日目） | D7: 実効稼働日数が減ります（この日の能力係数 1）
A8: 操業カレンダー | B8: L-25 | C8: 2026-09-08（火）L-25 定期オーバーホール（2/10日目） | D8: 実効稼働日数が減ります（この日の能力係数 1）
A9: 操業カレンダー | B9: L-25 | C9: 2026-09-09（水）L-25 定期オーバーホール（3/10日目） | D9: 実効稼働日数が減ります（この日の能力係数 1）
A10: 操業カレンダー | B10: L-25 | C10: 2026-09-10（木）L-25 定期オーバーホール（4/10日目） | D10: 実効稼働日数が減ります（この日の能力係数 1）
A11: 操業カレンダー | B11: L-25 | C11: 2026-09-11（金）L-25 定期オーバーホール（5/10日目） | D11: 実効稼働日数が減ります（この日の能力係数 1）
A12: 操業カレンダー | B12: L-25 | C12: 2026-09-14（月）L-25 定期オーバーホール（6/10日目） | D12: 実効稼働日数が減ります（この日の能力係数 1）
A13: 操業カレンダー | B13: L-25 | C13: 2026-09-15（火）L-25 定期オーバーホール（7/10日目） | D13: 実効稼働日数が減ります（この日の能力係数 1）
A14: 操業カレンダー | B14: L-25 | C14: 2026-09-16（水）L-25 定期オーバーホール（8/10日目） | D14: 実効稼働日数が減ります（この日の能力係数 1）
... A29: 単一ライン機種 | B29: DP-6100-E1 | C29: 圧力センサ DP-6100E形 は L-16 でしか流せません | D29: 当該ラインが止まると代替がありません
